BEGIN:VCALENDAR
VERSION:2.0
PRODID:-//HTV Weißenohe - ECPv6.15.20//NONSGML v1.0//EN
CALSCALE:GREGORIAN
METHOD:PUBLISH
X-WR-CALNAME:HTV Weißenohe
X-ORIGINAL-URL:https://htv-weissenohe.de
X-WR-CALDESC:Veranstaltungen für HTV Weißenohe
REFRESH-INTERVAL;VALUE=DURATION:PT1H
X-Robots-Tag:noindex
X-PUBLISHED-TTL:PT1H
BEGIN:VTIMEZONE
TZID:UTC
BEGIN:STANDARD
TZOFFSETFROM:+0000
TZOFFSETTO:+0000
TZNAME:UTC
DTSTART:20250101T000000
END:STANDARD
END:VTIMEZONE
BEGIN:VEVENT
DTSTART;TZID=UTC:20260216T143000
DTEND;TZID=UTC:20260216T170000
DTSTAMP:20260424T153338
CREATED:20260216T062132Z
LAST-MODIFIED:20260216T062132Z
UID:52-1771252200-1771261200@htv-weissenohe.de
SUMMARY:Kinderfasching
DESCRIPTION:Eingeladen sind alle kleinen Närrinnen und Narren mit Ihren Begleit-Erwachsenen (Eltern\, Großeltern\, Onkel und Tanten usw.) zu Spielen\, Musik und vielen Masken. Wir servieren Wienerle mit Brötchen\, Kaffee und Kuchen und Kaltgetränke.
URL:https://htv-weissenohe.de/event/kinderfasching/
LOCATION:Edelweißhütte
END:VEVENT
BEGIN:VEVENT
DTSTART;TZID=UTC:20260228T130000
DTEND;TZID=UTC:20260228T170000
DTSTAMP:20260424T153338
CREATED:20260222T170123Z
LAST-MODIFIED:20260227T101232Z
UID:204-1772283600-1772298000@htv-weissenohe.de
SUMMARY:Ostereier malen
DESCRIPTION:Unbedingt Sachen anziehen\, die beim Malen schmutzig werden dürfen. Bitte bei Monika Schwarz anmelden. (Es gibt auch eine kleine Überraschung für jedes Kind)
URL:https://htv-weissenohe.de/event/ostereier-malen/
LOCATION:Edelweißhütte
CATEGORIES:HTV-Kinder
END:VEVENT
END:VCALENDAR