BEGIN:VCALENDAR
VERSION:2.0
PRODID:-//HTV Weißenohe - ECPv6.15.20//NONSGML v1.0//EN
CALSCALE:GREGORIAN
METHOD:PUBLISH
X-WR-CALNAME:HTV Weißenohe
X-ORIGINAL-URL:https://htv-weissenohe.de
X-WR-CALDESC:Veranstaltungen für HTV Weißenohe
REFRESH-INTERVAL;VALUE=DURATION:PT1H
X-Robots-Tag:noindex
X-PUBLISHED-TTL:PT1H
BEGIN:VTIMEZONE
TZID:UTC
BEGIN:STANDARD
TZOFFSETFROM:+0000
TZOFFSETTO:+0000
TZNAME:UTC
DTSTART:20250101T000000
END:STANDARD
END:VTIMEZONE
BEGIN:VEVENT
DTSTART;TZID=UTC:20260320T200000
DTEND;TZID=UTC:20260320T200000
DTSTAMP:20260423T005106
CREATED:20260222T194840Z
LAST-MODIFIED:20260225T134453Z
UID:210-1774036800-1774036800@htv-weissenohe.de
SUMMARY:Theater - "So viel Krach in einer Nacht"
DESCRIPTION:Theaterkarten bekommt Ihr ab jetzt im Vorverkauf im B2-Laden und der Tankstelle Wölfel (Shell) in Igensdorf und bei der Theatergruppe. Wer noch die Karten aus dem Jahr 2020 hat\, wir erinnern uns – die Absage wegen der Covid-Pandemie\, bekommt seine Theaterkarten gegen aktuelle Karten getauscht. Bitte wendet Euch an Tobi Bayerlein. Bitte nicht erst an der Abendkasse. Wir wünschen Euch viel Spaß.
URL:https://htv-weissenohe.de/event/theater-so-viel-krach-in-einer-nacht/
LOCATION:Lillachtalhalle\, Dorfhauser Str. 9\, Weißenohe\, 91367\, Germany
CATEGORIES:Theatergruppe
END:VEVENT
BEGIN:VEVENT
DTSTART;TZID=UTC:20260321T200000
DTEND;TZID=UTC:20260321T200000
DTSTAMP:20260423T005106
CREATED:20260222T195058Z
LAST-MODIFIED:20260225T134400Z
UID:213-1774123200-1774123200@htv-weissenohe.de
SUMMARY:Theater "So viel Krach in einer Nacht"
DESCRIPTION:Theaterkarten bekommt Ihr ab jetzt im Vorverkauf im B2-Laden und der Tankstelle Wölfel (Shell) in Igensdorf und bei der Theatergruppe. Wer noch die Karten aus dem Jahr 2020 hat\, wir erinnern uns – die Absage wegen der Covid-Pandemie\, bekommt seine Theaterkarten gegen aktuelle Karten getauscht. Bitte wendet Euch an Tobi Bayerlein. Bitte nicht erst an der Abendkasse. Wir wünschen Euch viel Spaß.
URL:https://htv-weissenohe.de/event/theater-so-viel-krach-in-einer-nacht-2/
LOCATION:Lillachtalhalle\, Dorfhauser Str. 9\, Weißenohe\, 91367\, Germany
CATEGORIES:Theatergruppe
END:VEVENT
BEGIN:VEVENT
DTSTART;TZID=UTC:20260328T200000
DTEND;TZID=UTC:20260328T200000
DTSTAMP:20260423T005106
CREATED:20260222T195209Z
LAST-MODIFIED:20260225T134328Z
UID:215-1774728000-1774728000@htv-weissenohe.de
SUMMARY:Theater "So viel Krach in einer Nacht"
DESCRIPTION:Theaterkarten bekommt Ihr ab jetzt im Vorverkauf im B2-Laden und der Tankstelle Wölfel (Shell) in Igensdorf und bei der Theatergruppe. Wer noch die Karten aus dem Jahr 2020 hat\, wir erinnern uns – die Absage wegen der Covid-Pandemie\, bekommt seine Theaterkarten gegen aktuelle Karten getauscht. Bitte wendet Euch an Tobi Bayerlein. Bitte nicht erst an der Abendkasse. Wir wünschen Euch viel Spaß.
URL:https://htv-weissenohe.de/event/theater-so-viel-krach-in-einer-nacht-3/
LOCATION:Lillachtalhalle\, Dorfhauser Str. 9\, Weißenohe\, 91367\, Germany
CATEGORIES:Theatergruppe
END:VEVENT
END:VCALENDAR